Workbook
Name heen: '2026-2027'!$B$4:$HH$36
Name terug: '2026-2027'!$B$49:$HH$82
Name totaal: '2026-2027'!$B$2:$HH$82

Sheet 2026-2027
A1: 46235 | B1: =A1 -> 46235 | AF1: =B1+31 -> 46266 | BK1: =B1+62 -> 46297 | CO1: =BK1+30 -> 46327 | DT1: =CO1+31 -> 46358 | FI1: Afkorting clubs KVBBL | FT1: Afkorting clubs KNLBB | GE1: Afkorting vrije bekers
B2: =VLOOKUP(WEEKDAY(B3,2),Data!$K$2:$L$8,2,0) -> za | C2: =VLOOKUP(WEEKDAY(C3,2),Data!$K$2:$L$8,2,0) -> zo | D2: =VLOOKUP(WEEKDAY(D3,2),Data!$K$2:$L$8,2,0) -> ma | E2: =VLOOKUP(WEEKDAY(E3,2),Data!$K$2:$L$8,2,0) -> di | F2: =VLOOKUP(WEEKDAY(F3,2),Data!$K$2:$L$8,2,0) -> wo | G2: =VLOOKUP(WEEKDAY(G3,2),Data!$K$2:$L$8,2,0) -> do | H2: =VLOOKUP(WEEKDAY(H3,2),Data!$K$2:$L$8,2,0) -> vr | I2: =VLOOKUP(WEEKDAY(I3,2),Data!$K$2:$L$8,2,0) -> za | ... EX2: =VLOOKUP(WEEKDAY(EX3,2),Data!$K$2:$L$8,2,0) -> do | FI2: AB | FK2: BC Adelberg | FT2: BA | FV2: Barrier BC | GE2: SL | GG2: Schaal van Lommel
B3: =+A1 -> 46235 | C3: =B3+1 -> 46236 | D3: =C3+1 -> 46237 | E3: =D3+1 -> 46238 | F3: =E3+1 -> 46239 | G3: =F3+1 -> 46240 | H3: =G3+1 -> 46241 | I3: =H3+1 -> 46242 | J3: =I3+1 -> 46243 | ... EX3: =EW3+1 -> 46387 | EY3: T | FI3: AC | FK3: K. Achel BC | FT3: BO | FV3: K. Bocholter BC | GE3: MI | GG3: Beker Misotten 55+
A4: =Ledenlijst!J2 -> Agten Kris | U4: T | AQ4: 1 | AW4: 1 | BE4: 1 | BS4: 1 | BY4: T | CG4: 1 | CM4: 1 | CU4: 1 | CX4: BK | DI4: 1 | DP4: 1 | DV4: 1 | ED4: 1 | EK4: 1 | EY4: =COUNTIF(B4:EX4,"T") -> 2 | FA4: 1 | FB4: Interclub 1afd | FI4: AP | FK4: BC Aeroport | FT4: DT | FV4: Den Tichel BC
A5: =Ledenlijst!J3 -> Breugelmans André | Z5: B | AI5: B | AP5: B | BB5: 3 | BJ5: 3 | BQ5: 3 | BV5: BK | BW5: T | BX5: 3 | CC5: 3 | CM5: 3 | CR5: 3 | DG5: 3 | DO5: 3 | DU5: 3 | EB5: 3 | EI5: 3 | FA5: 2 | FB5: Interclub 2afd | FI5: BH | FK5: BC Bloemenhof | FT5: HA | FV5: Hamont BC
A6: =Ledenlijst!J4 -> De Laat Johan | CC6: T | CD6: TL | CM6: T | CX6: BK | FA6: 3 | FB6: Interclub 3afd | FI6: BK | FK6: BC Blauwe Kei | FT6: HS | FV6: Heuvel Sport
A7: =Ledenlijst!J5 -> Hamblok Henri | L7: T | Z7: T | BA7: 2 | BH7: 2 | BL7: 1 | BO7: 2 | BV7: T | BY7: 2 | BZ7: 1 | CC7: 2 | CF7: T | CK7: 2 | CT7: 2 | DH7: 2 | DI7: 1 | DL7: 2 | DN7: 1B | DS7: 2 | EC7: 2 | EG7: 2 | FA7: 4 | FB7: Interclub 4afd | FI7: DK | FK7: B.C. De Ketsers | FT7: KN | FV7: K. Neerpelter BC
A8: =Ledenlijst!J6 -> Kayar Mehmet | L8: T | Z8: T | AP8: T | BB8: 3 | BD8: 1B | BH8: 2 | BQ8: 3B | BR8: 1B | BV8: T | BY8: 1B | CC8: 2 | CJ8: 3B | CK8: 2 | CL8: 3 | CM8: T | CR8: 3 | CT8: 2 | CX8: BK | DS8: 1B | EC8: 2 | EG8: 1B | FA8: 1B | FB8: IC 1-band | FI8: DL | FK8: B.C. De Leuken | FT8: LO | FV8: Lozen BC
A9: =Ledenlijst!J7 -> Kemps Freddy | L9: B | AB9: B | AC9: B | AQ9: 1 | AW9: 1 | BE9: 1 | BL9: 1 | BS9: 1 | BV9: T | BZ9: 1 | CD9: TL | CG9: 1 | CM9: 1 | CU9: 1 | DI9: 1 | DP9: 1 | DV9: 1 | ED9: 1 | EK9: 1 | FA9: 3B | FB9: IC 3-band | FI9: DP | FK9: K.B.C De Peel | FT9: MV | FV9: K. MV Neerpelt
A10: =Ledenlijst!J8 -> Kuyken Leo | S10: T | V10: T | Z10: B | AC10: T | AN10: B | AP10: B | BA10: 2 | BL10: 1B | BO10: 2 | BR10: 3 | BV10: T | BY10: T | CC10: 3 | CD10: T | CK10: T | CM10: 1B | CQ10: T | CR10: AC | DG10: VB | DH10: 2 | DS10: 2 | EC10: 1B | EG10: 2 | FA10: B | FB10: Bondskampioenschap | FI10: DS | FK10: K.B.C De Ster | FT10: OP | FV10: Overpelt BC
A11: =Ledenlijst!J9 -> Leuse Dieter | BB11: 3 | BJ11: 3 | BQ11: 3 | BW11: T | BX11: 3 | CM11: 3 | CR11: 3 | DG11: 3 | DI11: 1 | DO11: 3 | DP11: 1 | DU11: 3 | EB11: 3 | EI11: 3 | FA11: XX | FB11: Beker (naam club) | FI11: HH | FK11: B.C. Hand In Hand | FT11: PB | FV11: K. Pieter Breugel BC
A12: =Ledenlijst!J10 -> Lodewijks Ferdinand | S12: B | U12: B | AB12: B | AN12: T | AQ12: 1 | BC12: 3B | BD12: 1 | BL12: 1 | BS12: 1 | BW12: T | BY12: 3B | BZ12: 1 | CC12: PB | CE12: 3B | CG12: 1 | CM12: 1B | CQ12: T | CS12: 3B | CU12: 1 | DI12: 1 | DP12: 1 | DU12: 3B | DW12: 1 | ED12: 1 | EK12: 1 | FA12: T | FB12: Tellen | FI12: ND | FK12: K.B.C. Netedal Pro | FT12: PE | FV12: K. Peer BC
A13: =Ledenlijst!J11 -> Loots Ludo | L13: B | R13: B | U13: T | AC13: B | AF13: T | AQ13: 1 | AX13: 1 | BD13: 1 | BL13: 1 | BQ13: 3B | BS13: 1 | BW13: T | BY13: 3B | BZ13: 1 | CG13: 1 | CJ13: 3B | CL13: T | CS13: 3B | CU13: 1 | DB13: 1 | DE13: 1B | DG13: 3B | DL13: 2 | DO13: 3B | DU13: 3B | DW13: 1 | ED13: 1 | EI13: 3B | EK13: 1 | EO13: VB | FA13: X | FB13: Biljartbezeting | FI13: PK | FK13: B.C. 't Pelterke | FT13: RE | FV13: K. Reinaert ter Dolen BC
A14: =Ledenlijst!J12 -> Mannaerts Jos | Z14: B | AN14: B | AP14: B | BB14: 3 | BD14: 1B | BL14: 1B | BP14: 3 | BR14: 1B | BY14: 1B | CC14: PB | CD14: 3 | CF14: 1B | CL14: 3 | CR14: AC | DB14: 1 | DE14: 1B | DF14: 3 | DS14: 1B | EA14: 3 | EG14: 1B | FI14: RA | FK14: K.B.C. Rappel | FT14: SC | FV14: De Schacht BC
A15: =Ledenlijst!J13 -> Pol Pim | AP15: T | BA15: 2 | BH15: 2 | BO15: 2 | BX15: T | BY15: 2 | CC15: 2 | CF15: T | CK15: 2 | CT15: 2 | DH15: 2 | DL15: 2 | DN15: 1B | DS15: 2 | EC15: 2 | EG15: 2 | FA15: NL | FB15: KNLBB individueel | FI15: TL | FK15: B.C. Tijl | FT15: VO | FV15: Verbroedering BC
A16: =Ledenlijst!J14 -> Slegers Eddie | AI16: T | BB16: 3 | BJ16: 3 | BQ16: 3 | BV16: BK | BX16: 3 | CC16: 3 | CE16: T | CL16: T | CM16: 3 | DG16: 3 | DO16: 3 | DU16: 3 | EB16: 3 | EI16: 3 | FI16: VN | FK16: De Vrienden BC | FT16: VR | FV16: De Vrienden BC
A17: =Ledenlijst!J15 -> Smeets Willy | T17: B | V17: B | AF17: B | AN17: T | AX17: 1 | BC17: 3B | BD17: 1 | BL17: 1 | BQ17: 3B | BS17: 1 | BY17: 3B | BZ17: 1 | CC17: T | CE17: 3B | CG17: 1 | CJ17: 3B | CN17: T | CR17: AC | CS17: 3B | CU17: 1 | DB17: 1 | DG17: 3B | DI17: 1 | DO17: 3B | DU17: 3B | DW17: 1 | ED17: 1 | EI17: 3B | EK17: 1 | FI17: VV | FK17: K.B.C. Vrij Vermaak
A18: =Ledenlijst!J16 -> Steenhuysen Patricia | AA18: B | AC18: T | AF18: B | BC18: 4 | BO18: 4 | BP18: 3 | BR18: 3 | BW18: 4 | BX18: 3 | BY18: T | CC18: PB | CD18: TL | CE18: 4 | CL18: 4 | CR18: 3 | CS18: 4 | DF18: 3 | DM18: 3 | DN18: 4 | DP18: 1 | DT18: 4 | DU18: 3 | DZ18: 4 | EA18: 3 | EH18: 3 | EI18: 4 | EO18: VB
A19: =Ledenlijst!J17 -> Van Broekhoven Harry | AF19: T | BC19: 4 | BO19: 4 | BW19: 4 | CD19: T | CE19: 4 | CL19: 4 | CS19: 4 | DN19: 4 | DT19: 4 | DZ19: 4 | EI19: 4
A20: =Ledenlijst!J18 -> Van Broekhoven Sofie
A21: =Ledenlijst!J19 -> Van De Put Jozef | AA21: B | AC21: B | AU21: B | BC21: 4 | BO21: 4 | BP21: 3 | BW21: 4 | BX21: 3 | BY21: T | CD21: TL | CE21: 4 | CL21: 4 | CR21: 3 | CS21: 4 | DF21: 3 | DM21: 3 | DN21: 4 | DT21: 4 | DU21: 3 | DZ21: 4 | EA21: 3 | EH21: 3 | EI21: 4 | EO21: VB
A22: =Ledenlijst!J20 -> Van Den Bruel Leon | R22: B | V22: B | AB22: B | AI22: T | AQ22: 1 | BD22: 1B | BL22: 1B | BR22: 1B | BV22: BK | BY22: 1B | CE22: T | CF22: 1B | CM22: 1B | CN22: T | DE22: 1B | DG22: VB | DN22: 1B | DS22: 1B | EC22: 1B | EG22: 1B
A23: =Ledenlijst!J21 -> Van Engeland Rinus | Z23: B | AI23: B | AP23: B | BB23: 3 | BR23: 3 | BX23: 3 | CF23: 1B | CK23: T | CL23: 3 | CR23: 3 | DG23: VB | DM23: 3 | DU23: 3 | EC23: 1B | EH23: 3
A24: =Ledenlijst!J22 -> Van Hout Ludo | S24: B | V24: T | AH24: B | AX24: 1
A25: =Ledenlijst!J23 -> Vandeneynde Jacky | S25: T | AQ25: 1 | AW25: 1 | BC25: 3B | BE25: 1 | BL25: 1 | BS25: 1 | BX25: T | BY25: T | BZ25: 1 | CE25: 3B | CG25: 1 | CM25: 1 | CU25: 1 | DG25: 3B | DO25: 3B | DP25: 1 | DV25: 1 | ED25: 1 | EI25: 3B | EK25: 1
A26: =Ledenlijst!J24 -> Wouters Guido
A27: =Ledenlijst!J24 -> Wouters Guido
A33: Biljart 1 | L33: X | S33: X | U33: X | V33: X | Z33: X | AC33: X | AF33: X | AI33: X | AN33: X | AP33: X | AQ33: X | AX33: X | BA33: X | BB33: X | BC33: X | BD33: X | BE33: X | BH33: X | BJ33: X | BL33: X | BO33: X | BP33: X | BQ33: X | BR33: X | BS33: X | BV33: X | BW33: X | BX33: X | BY33: X | BZ33: X | CC33: X | CD33: X | CE33: X | CF33: X | CG33: X | CJ33: X | CK33: X | CL33: X | CM33: X | CQ33: X | CR33: X | CS33: X | CU33: X | CX33: X | CY33: X | CZ33: X | DA33: X | DG33: X | DI33: X | DL33: X | DM33: X | DN33: X | DO33: X | DP33: X | DS33: X | DT33: X | DU33: X | DV33: X | DW33: X | EB33: X | ED33: X | EH33: X | EI33: X | EK33: X | EL33: X
A34: Biljart 2 | S34: X | Z34: X | BC34: X | BQ34: X | BV34: X | BW34: X | BX34: X | BY34: X | CC34: X | CD34: X | CE34: X | CF34: X | CG34: X | CL34: X | CS34: X | CU34: X | CX34: X | CY34: X | CZ34: X | DG34: X | DL34: X | DM34: X | DO34: X | DP34: X | DS34: X | DT34: X | DW34: X | ED34: X
A35: Biljart 3
A36: Wedstrijden 1st Afd AB1
A37: Wedstrijden 1st Afd AB2
A38: Wedstrijden 2de Afd AB1
A39: Wedstrijden 2de Afd AB2
A40: Wedstrijden 3de Afd AB1
A41: Wedstrijden 3de Afd AB2
A42: Wedstrijden 4de Afd
A43: Wedstrijden 1-Band
A44: Wedstrijden 3-Band
A46: =+A1+153 -> 46388 | B46: =A46 -> 46388 | AE46: =B46+31 -> 46419 | BJ46: =AE46+30 -> 46449 | CN46: =BJ46+31 -> 46480 | DS46: =CN46+31 -> 46511 | EW46: =DS45+30 -> 30 | FJ46: JUNI | GB46: =EW46+31 -> 61
...

Sheet Ledenlijst
A1: LIDNUMMERS | I1: Alfabetisch
A2: AB01 | B2: Van Engeland Rinus | C2: 20 | D2: 14 | E2: 10 | F2: X | I2: AB23 | J2: Agten Kris | K2: 145K | L2: 51 | M2: 23 | AE2: HARRY | AF2: 20 | AG2: 14 | AH2: 12
A3: AB02 | B3: Van Den Bruel Leon | C3: 54 | D3: 35 | E3: 18 | F3: X | I3: AB11 | J3: Breugelmans André | K3: 23 | L3: 14 | M3: 12 | O3: 1ste afd A | P3: Kris | Q3: Freddy | R3: Jacky | S3: Rik | AE3: JOS | AF3: 20 | AG3: 18 | AH3: 12
A4: AB03 | B4: Van Broekhoven Harry | C4: 20 | D4: 14 | E4: 12 | F4: X | I4: AB15 | J4: De Laat Johan | K4: 44 | L4: 23 | M4: 14 | O4: 1ste afd B | P4: Ludo vH. | Q4: Ludo L | R4: Willy | S4: Nand | AE4: RINUS | AF4: 20 | AG4: 14 | AH4: 12
A5: AB04 | B5: Van Hout Ludo | C5: 200 | D5: 85 | E5: 40 | F5: X | I5: AB16 | J5: Hamblok Henri | K5: 80 | L5: 35 | M5: 23 | O5: 2de afd | P5: Rik | Q5: Pim | R5: Mehmet | S5: Nand | AE5: ANDRÉ | AF5: 23 | AG5: 14 | AH5: 12 | AJ5: 2de | AK5: 3de | AM5: BEKER
A6: AB05 | B6: Wouters Guido | C6: 92 | D6: 35 | E6: 18 | I6: AB17 | J6: Kayar Mehmet | K6: 44 | L6: 20 | M6: 12 | O6: 3de afd A | P6: Leo | Q6: André | R6: Dieter | S6: Rinus | AE6: SOFIE | AF6: 23 | AG6: 14 | AH6: 12 | AJ6: 48 | AK6: 41 | AL6: 38 | AM6: 60
A7: AB06 | B7: Kuyken Leo | C7: 38 | D7: 23 | E7: 14 | F7: X | I7: AB21 | J7: Kemps Freddy | K7: 164 | L7: 45 | M7: 20 | O7: 3de afd B | P7: Mehmet | Q7: Harry | R7: Eddy D. | S7: Jos | AE7: PATRICIA | AF7: 26 | AG7: 14 | AH7: 12 | AJ7: 38 | AK7: 20 | AL7: 23 | AM7: 29
A8: AB07 | B8: Van De Put Jozef | C8: 38 | D8: 20 | E8: 16 | F8: X | I8: AB06 | J8: Kuyken Leo | K8: 38 | L8: 23 | M8: 14 | O8: 4de afd | P8: Jozef | Q8: Patricia | R8: Jos | S8: Harry | AE8: BEN | AF8: 29 | AG8: 20 | AH8: 14 | AJ8: 26 | AK8: 20 | AL8: 20 | AM8: 23
A9: AB08 | B9: Loots Ludo | C9: 130 | D9: 40 | E9: 26 | F9: X | I9: AB22 | J9: Leuse Dieter | K9: 20 | L9: 14 | M9: 12 | O9: 1-band | P9: Leon | Q9: Willy | R9: Jos | S9: Freddy | AE9: EDDY D. | AF9: 32 | AG9: 20 | AH9: 12
A10: AB09 | B10: Van Broekhoven Sofie | C10: 23 | D10: 14 | E10: 12 | I10: AB18 | J10: Lodewijks Ferdinand | K10: 72 | L10: 35 | M10: 16 | O10: 3-band | P10: Ludo vH. | Q10: Willy | R10: Jacky | S10: Nand | AE10: EDDIE SL. | AF10: 35 | AG10: 20 | AH10: 12 | AJ10: =SUM(AJ6:AJ9) -> 112 | AK10: =SUM(AK6:AK9) -> 81 | AL10: =SUM(AL6:AL9) -> 81 | AM10: =SUM(AM6:AM9) -> 112
A11: AB10 | B11: Steenhuysen Patricia | C11: 29 | D11: 14 | E11: 12 | F11: X | I11: AB08 | J11: Loots Ludo | K11: 130 | L11: 40 | M11: 26 | AE11: JOHAN | AF11: 38 | AG11: 20 | AH11: 14
A12: AB11 | B12: Breugelmans André | C12: 23 | D12: 14 | E12: 12 | F12: X | I12: AB19 | J12: Mannaerts Jos | K12: 20 | L12: 16 | M12: 12 | AE12: JOZEF | AF12: 38 | AG12: 20 | AH12: 16 | AJ12: overband
A13: AB12 | B13: Slegers Eddie | C13: 35 | D13: 20 | E13: 12 | F13: X | I13: AB20 | J13: Pol Pim | K13: 44 | L13: 26 | M13: 16 | AE13: LEO | AF13: 38 | AG13: 23 | AH13: 14 | AJ13: 14
A14: AB13 | B14: Vandeneynde Jacky | C14: 104 | D14: 35 | E14: 23 | F14: X | I14: AB12 | J14: Slegers Eddie | K14: 35 | L14: 20 | M14: 12 | O14: 66 | P14: 44 | Q14: 38 | AE14: SUS | AF14: 44 | AG14: 26 | AH14: 14 | AJ14: 18
A15: AB14 | B15: Smeets Willy | C15: 66 | D15: 40 | E15: 20 | F15: X | I15: AB14 | J15: Smeets Willy | K15: 66 | L15: 40 | M15: 20 | O15: 23 | P15: 38 | Q15: 20 | AE15: MEHMET | AF15: 48 | AG15: 18 | AH15: 12 | AJ15: 30
A16: AB15 | B16: De Laat Johan | C16: 44 | D16: 23 | E16: 14 | F16: X | I16: AB10 | J16: Steenhuysen Patricia | K16: 29 | L16: 14 | M16: 12 | O16: 20 | P16: 32 | Q16: 20 | AE16: PIM | AF16: 48 | AG16: 26 | AH16: 16
A17: AB16 | B17: Hamblok Henri | C17: 80 | D17: 35 | E17: 23 | F17: X | I17: AB03 | J17: Van Broekhoven Harry | K17: 20 | L17: 14 | M17: 12 | O17: =SUM(O14:O16) -> 109 | P17: =SUM(P14:P16) -> 114 | Q17: =SUM(Q14:Q16) -> 78 | AE17: LEON | AF17: 60 | AG17: 35 | AH17: 18
A18: AB17 | B18: Kayar Mehmet | C18: 44 | D18: 20 | E18: 12 | F18: X | I18: AB09 | J18: Van Broekhoven Sofie | K18: 23 | L18: 14 | M18: 12 | AE18: NAND | AF18: 66 | AG18: 35 | AH18: 16
A19: AB18 | B19: Lodewijks Ferdinand | C19: 72 | D19: 35 | E19: 16 | F19: X | I19: AB07 | J19: Van De Put Jozef | K19: 38 | L19: 20 | M19: 16 | AE19: WILLY | AF19: 66 | AG19: 40 | AH19: 23
A20: AB19 | B20: Mannaerts Jos | C20: 20 | D20: 16 | E20: 12 | F20: X | I20: AB02 | J20: Van Den Bruel Leon | K20: 54 | L20: 35 | M20: 18 | AE20: RIK | AF20: 80 | AG20: 35 | AH20: 20
A21: AB20 | B21: Pol Pim | C21: 44 | D21: 26 | E21: 16 | F21: X | I21: AB01 | J21: Van Engeland Rinus | K21: 20 | L21: 14 | M21: 10 | AE21: GUIDO | AF21: 104 | AG21: 35 | AH21: 18
A22: AB21 | B22: Kemps Freddy | C22: 164 | D22: 45 | E22: 20 | F22: X | I22: AB04 | J22: Van Hout Ludo | K22: 200 | L22: 85 | M22: 40 | AE22: JACKY | AF22: 104 | AG22: 35 | AH22: 20
A23: AB22 | B23: Leuse Dieter | C23: 20 | D23: 14 | E23: 12 | F23: X | I23: AB13 | J23: Vandeneynde Jacky | K23: 104 | L23: 35 | M23: 23 | AE23: LUDO L. | AF23: 130 | AG23: 40 | AH23: 26
A24: AB23 | B24: Agten Kris | C24: 145K | D24: 51 | E24: 23 | F24: X | I24: AB05 | J24: Wouters Guido | K24: 92 | L24: 35 | M24: 18 | AE24: FREDDY | AF24: 180 | AG24: 40 | AH24: 20
F25: X
A26: 1ste afd. min 48 – 60 – 92 | AE26: LUC | AF26: 200 | AG26: 75 | AH26: 29
A27: 2° afd: min 110 pt, 1ste speler mi 26 pt. laatste speler min 48 pt. | AE27: LUDO V.H. | AF27: 200 | AG27: 85 | AH27: 36
A28: 3° afd: min 80 p, indien er een 4e afdeling doorgaat – laatste speler min. 38 pt.
A29: 1-band | B29: 14-18-35 | I29: 20
A30: 3-band | B30: 12-14-16 | I30: 32
I31: 38
I32: =+SUM(I29:I31) -> 90
H33: 44
H34: 20
H35: 20
H36: =+SUM(H33:H35) -> 84

Sheet Bekerploegen
B1: AB (vrij) | C1: AC (vrij) | D1: AP (OB) | E1: BO (OB) | F1: BH (vrij) | G1: BK (vrij) | H1: BO (vrij) | I1: DK (vrij) | J1: DP (OB) | K1: HA ( ) | L1: DP (OB) | M1: KMV(H+L) | N1: KNBC(OB) | O1: MI (vrij) | P1: OP (vrij) | Q1: OP (OB) | R1: PB (H+L) | S1: PE (vrij) | T1: PE(H+L) | U1: PK (vrij) | V1: TL (vrij) | W1: SL (vrij) | X1: SC (OB) | Y1: VO (vrij)
A2: =Ledenlijst!J2 -> Agten Kris | G2: AB HR | V2: AB1 HR
A3: =Ledenlijst!#REF! -> #REF! | O3: AB2
A4: =Ledenlijst!J3 -> Breugelmans André | Z4: AB1
A5: =Ledenlijst!J4 -> De Laat Johan | G5: AB HR | V5: AB2 HR | Z5: AB2
A6: =Ledenlijst!#REF! -> #REF! | L6: AB1 | Z6: AB3
A7: =Ledenlijst!J5 -> Hamblok Henri | Q7: AB2 | Y7: AB LR
A8: =Ledenlijst!J6 -> Kayar Mehmet | B8: AB HR | E8: ADELBERG | M8: AB LR | V8: AB1 HR | Z8: AB LR
A9: =Ledenlijst!J7 -> Kemps Freddy | B9: AB HR | L9: AB1 | M9: AB HR | Q9: AB2 | Z9: AB HR
A10: =Ledenlijst!J8 -> Kuyken Leo | I10: AB LR | M10: AB HR
A11: =Ledenlijst!J9 -> Leuse Dieter | Z11: AB1 LR
A12: =Ledenlijst!J10 -> Lodewijks Ferdinand | G12: AB HR | I12: AB LR | Q12: AB2 | Z12: AB2 LR
A13: =Ledenlijst!J11 -> Loots Ludo | Q13: AB1 | Z13: AB3 LR
A14: =Ledenlijst!#REF! -> #REF!
A15: =Ledenlijst!J12 -> Mannaerts Jos | D15: AB1 | L15: AB1 | Q15: AB1 | V15: AB1 HR | Y15: AB LR
A16: =Ledenlijst!J13 -> Pol Pim | Y16: AB LR | Z16: AB1 HR
A17: =Ledenlijst!J14 -> Slegers Eddie | I17: AB HR | Z17: AB2 HR
A18: =Ledenlijst!J15 -> Smeets Willy | Z18: AB3 HR
A19: =Ledenlijst!J16 -> Steenhuysen Patricia | B19: AB LR | G19: AB LR | M19: AB LR | Q19: AB1 | T19: AB LR | U19: AB HR
A20: =Ledenlijst!J17 -> Van Broekhoven Harry | B20: AB HR | D20: AB1 | E20: ADELBERG | Q20: AB1 | V20: AB2 HR
A21: =Ledenlijst!J18 -> Van Broekhoven Sofie | Z21: ADELBERG
A22: =Ledenlijst!J19 -> Van De Put Jozef | B22: AB LR | G22: AB LR | M22: AB LR | U22: AB HR
A23: =Ledenlijst!J20 -> Van Den Bruel Leon | B23: AB LR | D23: AB1 | E23: ADELBERG | G23: AB LR | I23: AB HR | T23: AB LR
A24: =Ledenlijst!#REF! -> #REF!
A25: =Ledenlijst!J21 -> Van Engeland Rinus | E25: ADELBERG | I25: AB LR | M25: AB HR | Q25: AB2 | T25: AB LR
A26: =Ledenlijst!J22 -> Van Hout Ludo | D26: AB1 | V26: AB2 HR
A27: =Ledenlijst!J23 -> Vandeneynde Jacky | I27: AB HR | L27: AB1 | U27: AB HR
A28: =Ledenlijst!J24 -> Wouters Guido
I30: AB1 | L30: AB1 | M30: AB LR | Q30: AB1 | V30: AB1 HR
I31: AB2 | M31: AB HR | Q31: AB2 | V31: AB2 HR
A33: uiterste datum inschrijving | B33: 46011 | D33: 45894 | E33: 45931 | G33: 45908 | I33: 46003 | L33: 46006 | M33: 46005 | Q33: 46014 | T33: 45921 | U33: 45894 | V33: 46003 | Y33: 45920
A34: ingeschreven: | D34: 45891 | E34: 45920 | G34: 45891 | I34: 45986 | L34: 45986 | M34: 45986 | Q34: 46001 | T34: 45920 | U34: 45891 | V34: 45986 | Y34: 45891
A35: start toernooi AB1 | B35: 46032 | E35: 45951 | I35: 46031 | M35: 46037 | Q35: 46057 | T35: 45978
A36: start toernooi AB2 | L36: 46051 | Q36: 46051
A37: start toernooi AB HR 1 | B37: 46069 | G37: 45985 | I37: 46094 | M37: 46056 | U37: 45950 | V37: 46099
A38: start toernooi AB HR 2 | V38: 46100
C40: 20-29-54 | I40: 14 | J40: 14 | M40: 20-29-54 | R40: 20-29-54 | S40: 23 | U40: 14 | V40: 20-29-54 | W40: 23-23-54 | X40: 14 | Y40: 14
C41: 20-35-92 | I41: 16 | J41: 16 | M41: 20-35-92 | R41: 20-35-92 | S41: 26 | U41: 16 | X41: 16 | Y41: 16
C42: 20 | I42: 20 | J42: 20 | S42: 48 | U42: 20 | X42: 20 | Y42: 20
A43: KNLBB | C43: 30 | I43: 30 | J43: 30 | S43: max 80 | U43: 30 | X43: 30 | Y43: 30
...

Sheet Inschrijv. beker AB
A1: Inschrijvingen.beker AB 25-26
A3: Wedstrijdagen | D3: Tellen/schrijven | F3: Ingeschreven
A4: DO | B4: 46037 | C4: BILJ. 1 | D4: LEON | E4: JOHAN | F4: Barrier BC HR | G4: tussen 13/1 en 24/1 | H4: ANDRÉ | I4: =COUNTIF($D$4:$E$32,H4) -> 0
A5: WO | B5: 46043 | C5: BILJ. 1 | D5: MEHMET | E5: FREDDY | F5: Bc Adelberg LR | H5: BEN | I5: =COUNTIF($D$4:$E$32,H5) -> 0
A6: WO | B6: 46043 | C6: BILJ. 2 | D6: LUDO L | E6: HARRY | F6: Bc Adelberg HR | H6: DIETER | I6: =COUNTIF($D$4:$E$32,H6) -> 1
A7: DO | B7: 46044 | C7: BILJ. 2 | D7: JACKY | E7: RINUS | F7: Bc Aeroport LR | G7: 15/1-22/1-28/1-4/2-23/2 voorkeur op dinsdag | H7: EDDIE SL. | I7: =COUNTIF($D$4:$E$32,H7) -> 1
A8: DI | B8: 46049 | C8: BILJ. 2 | D8: LUC | E8: LEO | F8: Bc Bloemenhof LR 1 | H8: EDDY D. | I8: =COUNTIF($D$4:$E$32,H8) -> 3
A9: WO | B9: 46050 | C9: BILJ. 1 | D9: LEON | E9: DIETER | F9: Bc Bloemenhof LR 2 | H9: FREDDY | I9: =COUNTIF($D$4:$E$32,H9) -> 3
A10: WO | B10: 46050 | C10: BILJ. 2 | D10: EDDY D. | E10: SUS | F10: Bc De Leuken LR | H10: HARRY | I10: =COUNTIF($D$4:$E$32,H10) -> 1
A11: WO | B11: 46056 | C11: BILJ. 1 | D11: WILLY | E11: EDDY D. | F11: Bc Hand In Hand LR | H11: JACKY | I11: =COUNTIF($D$4:$E$32,H11) -> 3
A12: DI | B12: 46063 | C12: BILJ. 1 | D12: LUDO VH. | E12: LEO | F12: Bc 't Pelterke LR | H12: JOHAN | I12: =COUNTIF($D$4:$E$32,H12) -> 2
A13: WO | B13: 46064 | C13: BILJ. 1 | D13: FREDDY | E13: NAND | F13: Bc Tijl LR | H13: JOS | I13: =COUNTIF($D$4:$E$32,H13) -> 0
A14: DO | B14: 46065 | C14: BILJ. 1 | D14: KRIS | E14: SOFIE | F14: De Vrienden Bc LR | H14: JOZEF | I14: =COUNTIF($D$4:$E$32,H14) -> 3
A15: DO | B15: 46065 | C15: BILJ. 2 | D15: RIK | E15: PIM | F15: Den Tichel BC HR | H15: KRIS | I15: =COUNTIF($D$4:$E$32,H15) -> 2
A16: MA | B16: 46069 | C16: BILJ. 1 | D16: LUDO L. | E16: PATRICIA | F16: Heuvel Sport HR | H16: LEO | I16: =COUNTIF($D$4:$E$32,H16) -> 3
A17: MA | B17: 46069 | C17: BILJ. 2 | D17: JOZEF | E17: LUDO V.H. | F17: K. Achel BC LR | G17: 1ste match op ma of do | H17: LEON | I17: =COUNTIF($D$4:$E$32,H17) -> 2
A18: DI | B18: 46070 | C18: BILJ. 1 | D18: MEHMET | E18: JOHAN | F18: K. Bocholter Bc HR | H18: LUC | I18: =COUNTIF($D$4:$E$32,H18) -> 2
A19: WO | B19: 46071 | C19: BILJ. 1 | D19: RINUS | E19: SUS | F19: K. MV Neerpelt LR 1 | H19: LUDO L. | I19: =COUNTIF($D$4:$E$32,H19) -> 3
A20: DI | B20: 46077 | C20: BILJ. 2 | D20: JACKY | E20: LUDO L. | F20: K. MV Neerpelt LR 2 | H20: LUDO V.H. | I20: =COUNTIF($D$4:$E$32,H20) -> 3
A21: DO | B21: 46079 | C21: BILJ. 2 | D21: RIK | E21: PIM | F21: K. Neerpelter Bc LR | H21: MEHMET | I21: =COUNTIF($D$4:$E$32,H21) -> 3
A22: DI | B22: 46084 | C22: BILJ. 1 | D22: SOFIE | E22: JOZEF | F22: K. Pieter Breugel Bc LR 1 | H22: NAND | I22: =COUNTIF($D$4:$E$32,H22) -> 3
A23: DI | B23: 46084 | C23: BILJ. 2 | D23: NAND | E23: PATRICIA | F23: K. Pieter Breugel Bc LR 2 | H23: PATRICIA | I23: =COUNTIF($D$4:$E$32,H23) -> 2
A24: WO | B24: 46085 | C24: BILJ. 1 | D24: LUDO V.H. | E24: WILLY | F24: K.Bc DE STER HR 1 | H24: PIM | I24: =COUNTIF($D$4:$E$32,H24) -> 3
A25: DO | B25: 46086 | C25: BILJ. 1 | D25: EDDY D. | E25: EDDIE SL. | F25: K.Bc DE STER HR 2 | H25: RIK | I25: =COUNTIF($D$4:$E$32,H25) -> 3
A26: DO | B26: 46093 | C26: BILJ. 2 | D26: NAND | E26: KRIS | F26: K.Bc Rappel LR | H26: RINUS | I26: =COUNTIF($D$4:$E$32,H26) -> 3
A27: DI | B27: 46098 | C27: BILJ. 1 | D27: LEO | E27: FREDDY | F27: K.Bc Rappel HR | H27: SOFIE | I27: =COUNTIF($D$4:$E$32,H27) -> 2
A28: WO | B28: 46099 | C28: BILJ. 2 | D28: LUC | E28: MEHMET | F28: K.Bc Vrij Vermaak LR | H28: SUS | I28: =COUNTIF($D$4:$E$32,H28) -> 2
A29: WO | B29: 45741 | C29: BILJ. 1 | D29: RIK | E29: PIM | F29: K.Bc Vrij Vermaak HR | H29: WILLY | I29: =COUNTIF($D$4:$E$32,H29) -> 3
A30: MA | B30: 45747 | C30: BILJ. 2 | D30: LUDO V.H. | E30: WILLY | F30: Overpelt Bc LR
A31: DI | B31: 45748 | C31: BILJ. 2 | D31: JOZEF | E31: RINUS | F31: Verbroedering Bc LR
A32: ZA | B32: 45765 | C32: BILJ. 1 | D32: LUDO L. | E32: JACKY | F32: K.B.C. BLAUWE KEI LR | G32: FINALE
B33: =COUNTA(B4:B32) -> 29 | F33: K.B.C. BLAUWE KEI HR
F34: =COUNTA(F4:F33) -> 30

Sheet Samenstelling bestuur
B1: Herverkiezing bestuur BC Adelberg op de alg. vergadering van juni van elk jaar
D2: herkiesbaar
D3: niet herkiesbaar
K4: 2026-2027
C5: 2023-2024 | D5: 2024-2025 | E5: 2025-2026 | F5: 2026-2027 | G5: 2027-2028 | H5: 2028-2039
A6: 1 | B6: Voorzitter | C6: Rinus | D6: Rinus | E6: Rinus | F6: Rinus | G6: Rinus | H6: Rinus | J6: 1 | K6: Voorzitter | L6: Van Engeland Rinus | M6: 0477 / 24 71 11 | N6: marines.van.engeland@telenet.be
A7: 2 | B7: O.voorzitter/penningm. | C7: Leon | D7: Leon | E7: Leon | F7: Leon | G7: Leon | H7: Leon | J7: 2 | K7: O.voorzitter/penningm. | L7: Van Den Bruel Leon | M7: 0496 / 55 25 23 | N7: vandenbruel@gmail.com
A8: 3 | B8: Secretaris | C8: Ludo vH. | D8: Ludo vH. | E8: Ludo vH. | F8: Ludo vH. | G8: Ludo vH. | H8: Ludo vH. | J8: 3 | K8: Secretaris | L8: Van Hout Ludo | M8: 0476 / 31 99 76 | N8: vanhout.ludo@gmail.com
A9: 4 | B9: Sportbestuurder | C9: Guido | D9: Guido | E9: Guido | F9: Leo | G9: Leo | H9: Leo | J9: 4 | K9: Sportbestuurder | L9: Wouters Guido | M9: 0479 / 97 33 98 | N9: guidowouters54@gmail.com
A10: 5 | B10: Bestuurslid | C10: Harry | D10: Harry | E10: Harry | F10: Harry | G10: Harry | H10: Harry | J10: 5 | K10: Bestuurslid | L10: Van Broekhoven Harry | M10: 0485 / 62 44 39 | N10: mariasteurs@hotmail.com
A11: 6 | B11: Bestuurslid | C11: Leo | D11: Rik | E11: Rik | F11: Rik | G11: Rik | H11: Rik | J11: 6 | K11: Bestuurslid | L11: Hamblok Henri | M11: 0496 / 17 83 43 | N11: rik_hamblom@msn.com
A12: 7 | B12: Bestuurslid | C12: Sofie | D12: Nand | E12: Nand | F12: Nand | G12: Nand | H12: Nand | J12: 7 | K12: Bestuurslid | L12: Lodewijks Ferdinand | M12: 0494 / 38 26 59 | N12: nandlodewijks@hotmail.com
A13: 8 | B13: Bestuurslid | D13: Mehmet | E13: Mehmet | F13: Mehmet | G13: Mehmet | H13: Mehmet | J13: 8 | K13: Bestuurslid | L13: Kayar Mehmet | M13: 0477 / 99 32 74 | N13: kayarmehmet38@hotmail.com

Sheet Blad2

Sheet Blad1

Sheet Leden 26-27
A1: AB01 | B1: V.Engeland Rinus | C1: Weidestraat 29 | D1: 3530 | E1: Houthalen-Helchteren | G1: 0477 / 24 71 11 | H1: marines.van.engeland@telenet.be | I1: 18682 | J1: VOORZITTER | K1: 20 | L1: 14 | M1: 10
A2: AB02 | B2: V.D.Bruel Leon | C2: Voetbalstraat 23 | D2: 3910 | E2: Pelt | F2: 011 / 64 97 40 | G2: 0496 / 55 25 23 | H2: vandenbruel@gmail.com | I2: 18628 | J2: PENNINGMEESTER | K2: 54 | L2: 35 | M2: 18
A3: AB03 | B3: V.Broekhoven Harrie | C3: Nijshoek 60 | D3: 3920 | E3: Lommel | F3: 011 / 54 40 33 | G3: 0485 / 62 44 39 | H3: mariasteurs@hotmail.com | I3: 19600 | J3: BESTUURSLID | K3: 20 | L3: 14 | M3: 12
A4: AB04 | B4: Van Hout Ludo_(K) | C4: Buitensingel 22A | D4: 3920 | E4: Lommel | G4: 0476 / 31 99 76 | H4: vanhout.ludo@gmail.com | I4: 21253 | J4: SECRETARIS | K4: 200 | L4: 85 | M4: 40
A5: AB05 | B5: Wouters Guido | C5: Kloosterstraat 116 Bus 2 | D5: 3920 | E5: Lommel | G5: 0479 / 97 33 98 | H5: guidowouters54@gmail.com | I5: 19976 | J5: SPORTBESTUURDER | K5: 92 | L5: 35 | M5: 18
A6: AB06 | B6: Kuyken Leo | C6: Guido Gezellestraat 6 | D6: 3920 | E6: Lommel | F6: 011 / 54 17 34 | G6: 0468 / 32 61 59 | H6: leo.kuyken@telenet.be | I6: 16146 | J6: SPORTBESTUURDER | K6: 38 | L6: 23 | M6: 14
A7: AB07 | B7: Van De Put Jozef | C7: Pompstraat 4 | D7: 2400 | E7: Mol | G7: 0477 / 97 00 83 | H7: jozef.van.de.put@telenet.be | I7: 19057 | K7: 38 | L7: 20 | M7: 16
A8: AB08 | B8: Loots Ludo | C8: Glaswolstraat | D8: 2400 | E8: Mol | G8: 0475 / 37 93 89 | H8: ludoloots@outlook.be | I8: 21725 | K8: 130 | L8: 40 | M8: 26
A9: AB09 | B9: V.Broekhoven Sofie | C9: De Ram 30 | D9: 3580 | E9: Beringen | G9: 0494 / 69 32 27 | H9: soulsie19@hotmail.com | I9: 30708 | K9: 23 | L9: 14 | M9: 12
A10: AB10 | B10: Steenhuysen Patricia | C10: Pompstraat 4 | D10: 2400 | E10: Mol | G10: 0494 / 38 26 54 | H10: patatje1200@gmail.com | I10: 26435 | K10: 29 | L10: 14 | M10: 12
A11: AB11 | B11: Breugelmans Andre | C11: Gasthuisstraat 35 | D11: 2490 | E11: Balen | G11: 0498 / 47 61 85 | I11: 16266 | K11: 23 | L11: 14 | M11: 12
A12: AB12 | B12: Slegers Eddie | C12: Stevensvennen 83 | D12: 3920 | E12: Lommel | G12: 0496 / 51 81 40 | H12: eddy.Slegers1@telenet.be | I12: 22450 | K12: 35 | L12: 20 | M12: 12
A13: AB13 | B13: Vandeneynde Jacky | C13: Hees 121 B | D13: 3920 | E13: lommel | G13: 0476 / 82 85 73 | H13: Jackyvandeneynde@gmail.com | I13: 21025 | K13: 104 | L13: 35 | M13: 23
A14: AB14 | B14: Smeets Willy | C14: Bokkenrijdersweg 2 | D14: 3900 | E14: Pelt | G14: 0496 / 26 51 99 | H14: willysmeets50@gmail.com | I14: 18542 | K14: 66 | L14: 40 | M14: 20
A15: AB15 | B15: De Laat Johan | C15: Eendebek36-0101 | D15: 3920 | E15: Lommel | G15: 0472 / 88 19 87 | I15: 26330 | K15: 44 | L15: 23 | M15: 14
A16: AB16 | B16: Hamblok Henri | C16: Torenstraat 56 | D16: 3920 | E16: Lommel | G16: 0486 / 17 83 43 | H16: rik_hamblom@msn.com | I16: 21251 | J16: BESTUURSLID | K16: 80 | L16: 35 | M16: 23
A17: AB17 | B17: Kayar Mehmet | C17: Havikpad 5 | D17: 3920 | E17: Lommel | G17: 0477 / 99 32 74 | H17: kayarmameth38@hotmail.com | I17: 25773 | J17: BESTUURSLID | K17: 44 | L17: 20 | M17: 12
A18: AB18 | B18: Lodewijks Ferdinand | C18: Bezemstraat 18 | D18: 3920 | E18: Lommel | G18: 0484 / 99 36 59 | H18: nandlodewijks@hotmail.com | I18: 18659 | J18: BESTUURSLID | K18: 72 | L18: 35 | M18: 16
A19: AB19 | B19: Mannaerts Jos | C19: Dubbelrij 21 | D19: 3920 | E19: Lommel | F19: 011 / 54 54 02 | G19: 0477 / 03 67 70 | I19: 13393 | K19: 20 | L19: 16 | M19: 12
A20: AB20 | B20: Pol Pim | C20: Kerkplein 9G | D20: 3920 | E20: Lommel | F20: 011 / 54 29 50 | G20: 0498 / 11 50 05 | H20: dorienenpim@gmail.com | I20: 16029 | K20: 44 | L20: 26 | M20: 16
A21: AB21 | B21: Kemps Freddy | C21: Congostraat 46 | D21: 2490 | E21: Balen | G21: 0476 / 64 46 72 | H21: freddy.kemps@gmail.com | I21: 17403 | K21: 164 | L21: 45 | M21: 20
A22: AB22 | B22: Leuse Dieter_(KL) | C22: Smissestraat 42 bus 201 | D22: 2490 | E22: Balen | G22: 0499 / 20 42 70 | H22: dieter.leuse@gmail.com | K22: 20 | L22: 14 | M22: 12
A23: AB23 | B23: Agten Kris_(K) | C23: Kieizelweg 98 B 104 | D23: 2400 | E23: MOL | G23: 0479 / 16 11 38 | H23: agten.kris3009@gmail.com | K23: 145K | L23: 51 | M23: 23

Sheet Data
A1: Afkorting | B1: Omschrijving | C1: Club actief | K1: Weekdag
A2: AB | B2: BC Adelberg | C2: 1 | F2: 1 | G2: Interclub 1afd | K2: 1 | L2: ma | R2: NAAM | S2: BEREIK
A3: AC | B3: K. Achel BC | C3: 1 | F3: 2 | G3: Interclub 2afd | K3: 2 | L3: di | R3: totaal | S3: $B$4:$HH$59 | U3: $B$3:$HH$59
A4: AP | B4: BC Aeroport | C4: 1 | F4: 3 | G4: Interclub 3afd | K4: 3 | L4: wo | R4: heen | S4: $B$4:$HH$27
A5: BA | B5: Barrier BC | C5: 1 | F5: 4 | G5: Interclub 4afd | K5: 4 | L5: do | R5: terug | S5: $B$34:$HH$59
A6: BH | B6: BC Bloemenhof | C6: 1 | F6: 1B | G6: IC 1-band | K6: 5 | L6: vr
A7: BK | B7: BC Blauwe Kei | C7: 1 | F7: 3B | G7: IC 3-band | K7: 6 | L7: za | R7: Boven | S7: $B$4:$EX$26
A8: BO | B8: K. Bocholter BC | C8: 1 | F8: B | G8: Bondskampioenschap | K8: 7 | L8: zo | R8: Onder | S8: $B$34:$HF$56
A9: DK | B9: B.C. De Ketsers | C9: 1 | F9: XX | G9: Beker (naam club)
A10: DL | B10: B.C. De Leuken | C10: 1 | F10: T | G10: Tellen
A11: DP | B11: K.B.C De Peel | C11: 1 | F11: X | G11: Biljartbezeting
A12: DS | B12: K.B.C De Ster | C12: 1
A13: DT | B13: Den Tichel BC | C13: 1 | F13: NL | G13: KNLBB individueel
A14: EM | B14: B.C. Erasmus | C14: 0
A15: HA | B15: Hamont BC | C15: 1
A16: HH | B16: B.C. Hand In Hand | C16: 1
A17: HS | B17: Heuvel Sport | C17: 1
A18: KN | B18: K. Neerpelter BC | C18: 1 | H18: Niets weggooien!!
A19: LO | B19: Lozen BC | C19: 1
A20: MI | B20: Beker Misotten 55+ | C20: 1
A21: MV | B21: K. MV Neerpelt | C21: 1
A22: ND | B22: K.B.C. Netedal Pro | C22: 1
A23: OP | B23: Overpelt BC | C23: 1
A24: OR | C24: 0
A25: PB | B25: K. Pieter Breugel BC | C25: 1
A26: PE | B26: K. Peer BC | C26: 1
A27: PK | B27: B.C. 't Pelterke | C27: 1
A28: RA | B28: K.B.C. Rappel | C28: 1
A29: RE | B29: K. Reinaert ter Dolen BC | C29: 1
A30: SC | B30: De Schacht BC | C30: 1
A31: SL | B31: Schaal van Lommel | C31: 1
A32: TL | B32: B.C. Tijl | C32: 1
A33: VO | B33: Verbroedering BC | C33: 1
A34: VN | B34: De Vrienden BC | C34: 1
A35: VR | B35: De Vrienden BC | C35: 1
A36: VV | B36: K.B.C. Vrij Vermaak | C36: 1
C37: 0
C38: 0

Sheet formules
B1: Regels voorwaardelijke opmaak
B2: Opmaak | C2: Formule (= voorzetten) | D2: Bereik (= voorzetten)
B4: X | D4: $B$27:$EY$29
B5: X | D5: $B$57:$HG$59
B7: 1-4 | D7: $B$4:$EZ$25
B8: 1-4 | D8: $B$34:$HF$55
B9: 1B | D9: $B$4:$EZ$25
B10: 1B | D10: $B$34:$HF$55
B11: 3B | D11: $B$4:$EZ$25
B12: 3B | D12: $B$34:$HF$55
B14: B | D14: $B$4:$EZ$29
B15: B | D15: $B$34:$HF$59
B16: B
B18: T | D18: $B$4:$EX$25
B19: T | D19: $B$34:$HH$55
B21: NL | D21: $B$4:$EZ$28
B22: NL | D22: $B$34:$HF$59
A24: Opmaak zondag | B24: B$2="zo" | C24: B$2="zo" | D24: $B$2:$EX$29
B25: B$32="zo" | C25: B$32="zo" | D25: $B$32:$HF$59
B27: XX | C27: VERT.ZOEKEN(B4;Data!$A$2:$C$35;3;0) | D27: $B$4:$EX$26
B28: XX | C28: VERT.ZOEKEN(B34;Data!$A$2:$C$35;3;0) | D28: $B$34:$HF$56
C31: Niets weggooien!!
C33: =IF(#REF!>=#REF!,"Proficiat: Promotie!","Geen promotie") -> #REF!
